BEGIN:VCALENDAR
VERSION:2.0
PRODID:-//Gesellschaft der Arno Schmidt Leser - ECPv6.15.20//NONSGML v1.0//EN
CALSCALE:GREGORIAN
METHOD:PUBLISH
X-WR-CALNAME:Gesellschaft der Arno Schmidt Leser
X-ORIGINAL-URL:https://gasl.org
X-WR-CALDESC:Veranstaltungen für Gesellschaft der Arno Schmidt Leser
REFRESH-INTERVAL;VALUE=DURATION:PT1H
X-Robots-Tag:noindex
X-PUBLISHED-TTL:PT1H
BEGIN:VTIMEZONE
TZID:Europe/Berlin
BEGIN:DAYLIGHT
TZOFFSETFROM:+0100
TZOFFSETTO:+0200
TZNAME:CEST
DTSTART:20220327T010000
END:DAYLIGHT
BEGIN:STANDARD
TZOFFSETFROM:+0200
TZOFFSETTO:+0100
TZNAME:CET
DTSTART:20221030T010000
END:STANDARD
BEGIN:DAYLIGHT
TZOFFSETFROM:+0100
TZOFFSETTO:+0200
TZNAME:CEST
DTSTART:20230326T010000
END:DAYLIGHT
BEGIN:STANDARD
TZOFFSETFROM:+0200
TZOFFSETTO:+0100
TZNAME:CET
DTSTART:20231029T010000
END:STANDARD
BEGIN:DAYLIGHT
TZOFFSETFROM:+0100
TZOFFSETTO:+0200
TZNAME:CEST
DTSTART:20240331T010000
END:DAYLIGHT
BEGIN:STANDARD
TZOFFSETFROM:+0200
TZOFFSETTO:+0100
TZNAME:CET
DTSTART:20241027T010000
END:STANDARD
BEGIN:DAYLIGHT
TZOFFSETFROM:+0100
TZOFFSETTO:+0200
TZNAME:CEST
DTSTART:20250330T010000
END:DAYLIGHT
BEGIN:STANDARD
TZOFFSETFROM:+0200
TZOFFSETTO:+0100
TZNAME:CET
DTSTART:20251026T010000
END:STANDARD
BEGIN:DAYLIGHT
TZOFFSETFROM:+0100
TZOFFSETTO:+0200
TZNAME:CEST
DTSTART:20260329T010000
END:DAYLIGHT
BEGIN:STANDARD
TZOFFSETFROM:+0200
TZOFFSETTO:+0100
TZNAME:CET
DTSTART:20261025T010000
END:STANDARD
BEGIN:DAYLIGHT
TZOFFSETFROM:+0100
TZOFFSETTO:+0200
TZNAME:CEST
DTSTART:20270328T010000
END:DAYLIGHT
BEGIN:STANDARD
TZOFFSETFROM:+0200
TZOFFSETTO:+0100
TZNAME:CET
DTSTART:20271031T010000
END:STANDARD
END:VTIMEZONE
BEGIN:VEVENT
DTSTART;TZID=Europe/Berlin:20260330T190000
DTEND;TZID=Europe/Berlin:20260330T200000
DTSTAMP:20260422T153118
CREATED:20260302T150629Z
LAST-MODIFIED:20260302T150630Z
UID:1394-1774897200-1774900800@gasl.org
SUMMARY:Tina‘s Kiosk - Arno-Schmidt-Online-Lesekreis
DESCRIPTION:Die Gesellschaft der Arno-Schmidt-Leser e.V. lädt zum Arno-Schmidt-Online-Lesekreis ein. Jeden letzten Montag im Monat treffen wir uns online an Tina‘s virtuellem Kiosk und lesen gemeinsam aus den Werken Arno Schmidts. \n\n\n\nWir lesen dabei Satz für Satz und besprechen eure Fragen und Eindrücke. Der Lesekreis ist dabei offen für alle\, für Schmidt-Neulinge und Schmidt-Veteranen\, für Lesende mit gar keiner oder mit viel Schmidt-Leseerfahrung. \n\n\n\nAnna Wiesheu und Tina Grahl moderieren den Lesekreis. Sie sind beide im Vorstand der Gesellschaft der Arno-Schmidt-Leser e.V. aktiv. Wann? Jeden letzten Montag im Monat\, immer 19:00-20.00 Uhr. Start ist der 30.03.2026Wie? Satz für Satz. Ausgerüstet mit Sekundärwerken oder ganz naiv voraussetzungslos – all brains are welcome! \n\n\n\nWas? Wir starten mit der kurzen Erzählung „Tina oder über die Unsterblichkeit.“Wo? Online. Den Link bekommt ihr auf Anfrage von Tina Grahl via grahl@gasl.org
URL:https://gasl.org/event/tinas-kiosk-arno-schmidt-online-lesekreis/
END:VEVENT
BEGIN:VEVENT
DTSTART;TZID=Europe/Berlin:20260118T110000
DTEND;TZID=Europe/Berlin:20260118T130000
DTSTAMP:20260422T153118
CREATED:20260106T102400Z
LAST-MODIFIED:20260106T102401Z
UID:1380-1768734000-1768741200@gasl.org
SUMMARY:Geburtstagstreffen 2026
DESCRIPTION:Auf den 18.1.2026 fällt sein 112. Geburtstag. Und in Hamburg Hamm trifft man sich deshalb am Vormittag um 11 Uhr am Haus Rumpffsweg 27. In dem Vorkriegsgebäude\, das dort bis 1943 an der Stelle des heutigen Hauses stand: Da wurde Arno Schmidt geboren\, am 18. Januar 1914. Als zweites Kind einer 19 Jahre alten Mutter und eines 30 Jahre alten Vaters. Eines Polizeibeamten in Hamburg mit dem weltläufigen Vorleben eines deutschen Wachsoldaten in China. Hier verlief die Kindheit des späteren Autors. Diese Hamburger Zeit\, sie endete 1928 mit dem Tod des Vaters. Da zog die junge Witwe mit ihren Kindern weg. Arnos Mutter war 34\, Arnos Schwester Luzie war 17 und Arno selbst war 14 ½ Jahre alt. Der Nachkriegsbau am Ort des Geburtshauses steht direkt am Gehweg. Er ist frei zugänglich. Und seit 1984 ist er gut kenntlich durch eine Tafel am Haus. Sie weist auf den Vorkriegsbau hin. Niemand muss sich irgendwo anmelden. Bitte kommen Sie einfach! Und bringen Sie Ihren „Flachmann“ gern mit\, wenn Sie möchten. Oder die Maggiflasche. Auch ich selbst will wieder am Ort sein\, am 18.1.2026 um 11 Uhr. Der Geburtstagstermin Nr. 112 fällt auf einen Sonntag. Und es ist das 30. Mal\, dass das Stadtteilarchiv Hamburg-Hamm aus diesem Anlass an den Ort einlädt. Dass jemand von uns persönlich vor Ort ist. Dass es eine Fortsetzung des Termins mit warmer Küche gibt.Dieser 30. Termin ist ein guter Anlass\, einen zeitlichen Schnitt zu setzen: 2026 ist das letzte Mal\, zu dem ich am Ort zuverlässig anwesend sein will. Ich will wieder alle begrüßen\, die da sind. Festliche Worte zum Termin werden aber Freunde aus der Hamburger Gemeinde der Arno Schmidt Leser sagen. Natürlich wollen das Stadtteilarchiv Hamburg-Hamm und ich selbst weiterhin örtlicher Ansprechpartner zu Arno Schmidt sein. So gegen 11:30 Uhr werden wir dann zur Fortsetzung des Treffens wieder zum „Griechen“ gehen\, – mit den Hungrigen unter den Gästen am Haus. Wie schon in den Jahren zuvor. Wieder auf Selbstzahler-Basis\, versteht sich. „Der Grieche“ liegt in fußläufiger Entfernung vom Haus. Sein Innenbereich hat rund dreißig Sitzplätze. Die Preise sind moderat. „Der Grieche“ hieße besser „Die Griechin“. Wegen der Inhaberin und Chefin der Küche. Die Frau kocht selbst. Sie kann\, was sie tut. Genug der Worte: Wenn Sie möchten\, dann sehen wir uns. \n\n\n\nBesten Gruß – Wolfgang Zimmermann
URL:https://gasl.org/event/geburtstagstreffen-2026/
END:VEVENT
BEGIN:VEVENT
DTSTART;TZID=Europe/Berlin:20251024T000000
DTEND;TZID=Europe/Berlin:20251026T235959
DTSTAMP:20260422T153118
CREATED:20250225T100848Z
LAST-MODIFIED:20251101T122306Z
UID:1328-1761264000-1761523199@gasl.org
SUMMARY:38. Jahrestagung der GASL in Knittlingen
DESCRIPTION:Die 38. Jahrestagung fand an einem Ort mit faustischer Geschichte statt. Dort befinden sich auch das weltweit einzige\, einzigartige Faustmuseum und das Faustarchiv mit der Alten Lateinschule\, wo die Tagung abgehalten wurde. \n\n\n\nFreitag\, 24. Oktober 202516:30 UhrBegrüßung: Für das Faust-Museum und Archiv Denise Roth\, für die GASL Dietmar Noering und Armin Eidherr17:00 UhrMitgliederversammlung der GASL18:20 UhrAnna Wiesheu: Kurze Einführung und Präsentation des Films “Karl-Heinz Müther – Ein Leben für Arno Schmidt”19:30 UhrGemeinsames Abendessen im Restaurant Faust\, Kirchplatz 10Samstag\, 25. Oktober 202509:00 UhrDietmar Noering: Vom Puppenspiel der Götter.Die Historia von D. Johann Fausten\, Goethes Faust und manch schweifende Gedanken – am Ende auch in das Werk Arno Schmidts\, besonders zu Abend mit Goldrand10:00 UhrPeter Schütze: Grabbes Beschäftigung mit dem Faust-Stoff (mit einigen Hin-Blicken zu Arno Schmidt)11:00 UhrBoris Körkel: “Du Orplid\, mein Land” – Kraichgau \, Mörike\, Arno Schmidt12.00 UhrKarlheinz Müller: Lachen mit und über Goethe13:00 UhrMittagspause15:00 UhrFührung durch Faust-Museum und Archiv mit deren Leiterin Denise Roth. Im Anschluss Stadtrundgang “auf den Spuren von D. Johann Fausten und der Knittlinger Mundharmonika-Produktion”.18:30 UhrGemeinsames Abendessen im Restaurant Faust\, Kirchplatz 10Sonntag\, 26. Oktober 202509:00 uhrUlrich Finkenzeller: Informationen zum Stand des Projekts “Arno Schmidt und Astronomie” (Inhalte\, Thesen Projekte)10:00 UhrLena Leitner: Gustav Könneckes “Bilderatlas zur Geschichte der deutschen Nationalliteratur” bei Arno Schmidt11:00 UhrUlrich Klappstein: Friedrich Maximilian Klingers Fausts Leben\, Taten und Höllenfahrt und seine Spuren in Arno Schmidts Werk12.00 UhrUlrich Klappstein und Armin Eidherr: Kurze Einführung zu “Theophrastus Bombastus von Hohenheim”. Paracelsus im Werk Arno Schmidts (Ulrich Klappstein)Lesung von Ausschnitten aus den “Dichtergesprächen 10 und 11 (Ulrich Klappstein und Armin Eidherr)13:00 UhrEnde der Tagung\n\n\n\nKnittlingen ist verkehrstechnisch gut erreichbar. So verkehren von den Bahnhöfen im nahen Mühlacker\, Pforzheim oder auch Bretten dauernd Busse der Linien Mühlacker– od. Pforzheim–Maulbronn–Knittlingen–Bretten oder Bretten–Mühlacker.Unterkünfte finden sich in Knittlingen selbst\, allerdings gibt es dort nur zwei Möglichkeiten: Hotel “Faust” (https://gasthaus-faust.de/) (Zimmer und Apartments) und “Reinhardt’s Alte Feuerwache” (https://www.baeckerei-reinhardt.de/altefeuerwache)(Apartments).  \n\n\n\nIn den nah=benachbarten Städtchen Bretten und Maulbronn (je ca. 4 Km nord-westl. bzw. süd-östl. von Knittlingen und durch dauernde Busverbindungen schnell und leicht zu erreichen!) gibt es weitere Unterkünfte: In Bretten\, der “Melanchthonstadt”\, etwa das geschichtsträchtige Hotel “Krone” (www.krone-bretten.de) oder das “Dormero” (www.dormero.de/hotel-bretten); die Busstation befindet sich je in kürzester Entfernung. In Maulbronn etwa das Hotel “Klosterpost” (www.klosterpost.de) oder das Hotel “Scheffelhof”(www.zumscheffelhof.de) — auch die beiden Maulbronner Hotels sind je in unmittelbarer Nähe der Bushaltestellen. \n\n\n\nIn Knittlingen\, von wo die Busse nach Bretten und Maulbronn bis Mitternacht fahren\, gibt es auch das Taxiunternehmen “Nonnenmann”\, das mit seinem Kleinbus Fahrdienste / Sammelfahrten – etwa für die spätere Heimkehr – anbietet!
URL:https://gasl.org/event/38-jahrestagung-der-gasl-in-knittlingen/
END:VEVENT
BEGIN:VEVENT
DTSTART;TZID=Europe/Berlin:20250119T200000
DTEND;TZID=Europe/Berlin:20250119T200000
DTSTAMP:20260422T153118
CREATED:20241215T154810Z
LAST-MODIFIED:20241215T155204Z
UID:1291-1737316800-1737316800@gasl.org
SUMMARY:Der Briefwechsel zwischen Arno Schmidt und Max Bense – Buchpremiere
DESCRIPTION:Schlosstheater Cellem Halle 19 \n\n\n\nDer Briefwechsel zwischen Arno Schmidt und Max Bense – BuchpremiereEs lesen Bernd Rauschenbach und Jan Philipp Reemtsma; die Herausgeberin Michaela Nowotnick führt in den Briefwechsel ein. Tickets gibt es hier: \n\n\n\nhttps://schlosstheater-celle.de/produktion/und-nun-postillon-fahr-zu-1960
URL:https://gasl.org/event/und-nun-postillon-fahr-zu/
END:VEVENT
BEGIN:VEVENT
DTSTART;TZID=Europe/Berlin:20250118T000000
DTEND;TZID=Europe/Berlin:20250118T235959
DTSTAMP:20260422T153118
CREATED:20241105T094939Z
LAST-MODIFIED:20250108T153212Z
UID:1279-1737158400-1737244799@gasl.org
SUMMARY:Geburtstagstreffen 2025
DESCRIPTION:2025 fällt Arno Schmidts Geburtstag\, der 18. Januar\, auf einen Samstag. Grund genug sich die Zeit zu nehmen\, um nach Hamburg zu reisen. Zugleich ist das Jahr 2025 selbst ein Arno-Schmidt-Jubiläum: 1975\, vor 50 Jahren erschien “Abend mit Goldrand”\, das letzte vollendete Werk Schmidts. \n\n\n\nArno Schmidts 111.Geburtstag wollen wir gebührend mit einem Tost auf ihn begehen. Wir treffen uns am Samstag\, 18.1.2025 um 11:00 Uhr am Haus Rumpffsweg 27 in Hamburg. Erfreulicherweise wird auch Wolfgang Zimmermann von der Stadtteilinitiative Hamburg Hamm e.V. (Kulturladen\, Stadtteilarchiv\, Bunkermuseum) wieder vor Ort sein\, sodass wir uns auf ein paar nette Anektoden vom langjährigen Ausrichter des Geburtstagstreffen freuen dürfen. Anschließend kehren wir beim “Griechen” ganz in der Nähe (Hammer Landstraße 70\, www.dergrieche.biz) nein. 
URL:https://gasl.org/event/geburtstagstreffen-2025/
END:VEVENT
BEGIN:VEVENT
DTSTART;TZID=Europe/Berlin:20241229T153000
DTEND;TZID=Europe/Berlin:20241229T153000
DTSTAMP:20260422T153118
CREATED:20241222T114730Z
LAST-MODIFIED:20241222T114841Z
UID:1301-1735486200-1735486200@gasl.org
SUMMARY:Zwischen den Jahren mit Arno Schmidt
DESCRIPTION:Lesung im Bad Fallingbosteler RatssaalBereits zum zehnten Mal gibt es am Sonntag\, dem 29. Dezember\, um 15.30 Uhr im Bad Fallingbosteler Ratssaal in der Reihe „Arno Schmidt les’n“ die Gelegenheit\, sich mit Leben und Werk von Arno Schmidt und ihren Bezügen zu unserer Region vertraut zu machen. Torsten Kleiber\, Gabriele Piotraschke und Wolfgang Brandes wollen die Zeit zwischen den Jahren nutzen\, um durch Eintragungen aus der Weihnachtszeit 1948 und 1949 in Alice Schmidts Tagebuch die kärglichen Lebensumstände der Schmidts auf dem Cordinger Mühlenhof deutlich zu machen. Weihnachtstrubel und großartige Geschenke gibt es nicht\, aber in manchem Detail wird deutlich\, dass die Weihnachtszeit auch für die beiden Atheisten etwas Besonderes ist.https://heide-kurier.de/bad-fallingbostel-zwischen-den-jahren-mit-arno-schmidt_bCkU
URL:https://gasl.org/event/zwischen-den-jahren-mit-arno-schmidt/
END:VEVENT
BEGIN:VEVENT
DTSTART;TZID=Europe/Berlin:20241004T000000
DTEND;TZID=Europe/Berlin:20241006T235959
DTSTAMP:20260422T153118
CREATED:20231026T142111Z
LAST-MODIFIED:20241010T085532Z
UID:1130-1728000000-1728259199@gasl.org
SUMMARY:37. Jahrestagung der GASL in Salzburg
DESCRIPTION:Die Jahrestagung 2024 fand vom 4. bis 6. Oktober in Salzburg statt. Tagungsort war das Stefan-Zweig-Zentrum (Mönchsberg 2\, 5020 Salzburg). Themenschwerpunkte der Tagung waren “Arno Schmidt\, James Joyce und Salzburg” sowie “Arno Schmidt und die österreichische Literatur”. \n\n\n\n\n\n\n\nTagungsprogramm\n\n\n\nFreitag 4. Oktober 202416:30 UhrBegrüßung: Stefan-Zweig-Zentrum\, Martina Wörgötter\, Dietmar Noering und Armin Eidherr („Arno Schmidt\, Österreich und Salzburg“)17:10 UhrMitgliederversammlung der GASL18:40 UhrAnna Wiesheu: Präsentation des Trailers zum Film „Karl-Heinz Müther – Ein Leben für Arno Schmidt“19:00 UhrGemeinsames Abendessen im Restaurant Goldene Kugel\, Judengasse 3Samstag5. Oktober 202409:00 UhrHendrike Witt: Arno Schmidt und Ingeborg Bachmanns Karawane der Auferstehung10:00 UhrChristian Struck: Satzzeichen bei Arno Schmidt11:00 UhrKarsten Hens: Besuch der Schauplätze von Seelandschaft mit Pocahontas12:00 UhrAndreas Weigel: Arno Schmidt\, James Joyce und Salzburg13:00 UhrMittagspause; Option: Kurze Lesung aus Dichtergespräche vor dem Paracelsus-Haus15:00 UhrSpaziergang: Auf den Spuren von James Joyce in Salzburg mit Andreas Weigel17:00 UhrBesichtigung: Besuch der Trakl-Gedenkstätte\, Waagplatz 1 A18:30 UhrGemeinsames Abendessen im Restaurant Andreas Hofer Weinstube\, Steingasse 65Sonntag6. Oktober 202409:00 UhrSimon Gottwald: Arno Schmidt\, E. A. Poe und H. P. Lovecraft10:00 UhrDietmar Noering: Liebe und Diebstahl oder Wenn Drei das Gleiche tun\, ist es noch lange nicht Dasselbe11.00 UhrUlrich Finkenzeller: Arno Schmidt zwischen Fake News und Moon Hoax: O’Neill’s Brücke in und im Mare Crisium12:00 UhrUlrich Klappstein: Arno Schmidt und Adalbert Stifter und das Schreiben über Natur13:00 UhrEnde der Tagung
URL:https://gasl.org/event/37-jahrestagung/
END:VEVENT
BEGIN:VEVENT
DTSTART;TZID=Europe/Berlin:20240621T180000
DTEND;TZID=Europe/Berlin:20240623T130000
DTSTAMP:20260422T153118
CREATED:20240128T173301Z
LAST-MODIFIED:20240128T173302Z
UID:1220-1718992800-1719147600@gasl.org
SUMMARY:Lektüreseminar: Arno Schmidt »Die Gelehrtenrepublik«
DESCRIPTION:Ein Seminar für Schmidt-Anfänger:innen und fortgeschrittene Leser:innenIn einer nicht allzu weit entfernten Zukunft hat ein Atomkrieg weite Teile der Erde zerstört. Neue Formen des Lebens und Zusammenlebens haben sich im Westen der USA und auf einer im Pazifik befindlichen mobilen Insel entwickelt. Der Reporter Charles Henry Winer hat die Erlaubnis bekommen\, ein Gebiet mit menschenähnlichen Mutanten zu durchqueren und zu dieser Insel zu reisen. In der sogenannten Gelehrtenrepublik kommen Wissenschaftler\, Autoren und Künstler aus allen Teilen der Welt zusammen\, um für eine bestimmte Zeit dort unter idealen Voraussetzungen zu leben und zu arbeiten.Arno Schmidt entwirft in seiner 1957 erschienenen satirischen Dystopie eine erneut am Abgrund stehende Welt: Experimente an Tieren und Menschen sind alltäglich und Krieg und Vernichtung wurden keinesfalls überwunden\, sondern werden zum Untergang der Gelehrtenrepublik als Idealstaat führen.Während des Seminars wird der Roman in Auszügen gemeinsam gelesen und anhand ausgewählter Fragestellungen erschlossen. Vorkenntnisse sind nicht erforderlich. \n\n\n\nAnmeldung: https://www.nordkolleg.de/seminare/details/seminar/l19-2024/
URL:https://gasl.org/event/lektuereseminar-arno-schmidt-die-gelehrtenrepublik/
END:VEVENT
BEGIN:VEVENT
DTSTART;TZID=Europe/Berlin:20240322T000000
DTEND;TZID=Europe/Berlin:20241013T235959
DTSTAMP:20260422T153118
CREATED:20240311T112642Z
LAST-MODIFIED:20240311T112643Z
UID:1234-1711065600-1728863999@gasl.org
SUMMARY:Kleider.Geschichten.Der textile Nachlass von Arno und Alice Schmidt
DESCRIPTION:Ausstellung der Arno Schmidt Stiftung im tim | Staatliches Textil- und Industriemuseum Augsburg. Weitere Informationen
URL:https://gasl.org/event/kleider-geschichten-der-textile-nachlass-von-arno-und-alice-schmidt/
END:VEVENT
BEGIN:VEVENT
DTSTART;TZID=Europe/Berlin:20240118T110000
DTEND;TZID=Europe/Berlin:20240118T110000
DTSTAMP:20260422T153118
CREATED:20240105T115931Z
LAST-MODIFIED:20240105T120158Z
UID:1193-1705575600-1705575600@gasl.org
SUMMARY:Geburtstagstreffen in Hamburg-Hamm
DESCRIPTION:Wolfgang Zimmermann vom Stadtteilarchiv Hamburg-Hamm organisiert auch in diesem Jahr wieder ein Geburtstagstreffen für Arno Schmidt und seine Lesenden. Am 18.01.2024 zum 110. Geburtstag um 11 Uhr können Schmidt-Lesende auch in diesem Jahr zusammenkommen. Dazu die Ankündigung von Wolfgang Zimmermann:  \n\n\n\nSchmidts Geburtshaus stand an der Adresse Rumpffsweg 27 in Hamburg-Hamm. Es wurde 1943 im Bombenkrieg zerstört. Wie schon das Geburtshaus\, so steht auch der heutige Nachkriegsbau im Öffentlichen Raum und ist allgemein zugänglich. Weil das so ist\, werden Unentwegte auch in diesem Jahr einander dort treffen\, nun am Donnerstag\, dem 18.1.2024 um 11 Uhr. Mit oder ohne persönlichen „Flachmann“. Auch das Stadtteilarchiv wird wieder am Ort sein: Mit traditioneller „Maggi-Flasche“. Und mit Kamera\, für das jährliche Facebook-Foto. Das Bild werden Sie dann wieder unter https://de-de.facebook.com/people/Stadtteilarchiv-Hamm/100066622534709/ finden.Die Geburtstagstreffen finden jedenfalls seit dem 18.1.1984 statt\, nämlich\, seit am Nachkriegsbau eine Tafel hängt\, die an Arno Schmidt erinnert. Die Hamburger Kulturbehörde hatte sie am Vortag dort anbringen lassen. Zum 18.1.1997 nahm dann das Stadtteilarchiv Hamburg-Hamm diese Treffen zu seinen Aufgaben und organisiert sie seither. Dem Treffen am Ort des Geburtshauses schloss sich seitdem das Angebot eines Eintopf-Essens an. Einschließlich der „Maggi-Flasche“ als dem Symbol der schmalen Kost und deren Würze\, wie sie prägend waren für die Zeit nach 1945. Nicht nur für Arno Schmidt\, sondern ganz allgemein. Der letzte Termin\, der nach dem Treffen am Geburtshaus in den Räumlichkeiten des Stadtteilarchivs Hamburg-Hamm stattfand\, war das 24. Eintopf-Essen am 18.1.2020.Direkt am Haus traf man sich auch zu allen Geburtstagen danach\, zuletzt am 18.1.2023. Die Essen-Termine der Jahre ab 2021 fielen dagegen aus: Erst wegen der Covid19-Pandemie\, dann wegen der engeren Verhältnisse in den neuen Räumen des Stadtteilarchivs am U-Bahnhof Burgstraße (Sievekingdamm 3). Dabei muss es bleiben. Aber: Vielleicht suchen wir uns am 18.1. nach dem Termin ein Restaurant in der Nähe.Wer per U-Bahn ans Haus kommt\, für den gibt es 2024 eine Erleichterung: Die Talseite des U-Bahnhofs „Hammer Kirche“ ist nach langer Bauzeit wieder unterirdisch erreichbar. Denn der kurze und trockene Fußgängertunnel zum talseitigen Ausgang „Hammer Landstraße“ ist wieder geöffnet. Und auch an diesem Ausgang gibt es nun einen Aufzug.
URL:https://gasl.org/event/geburtstagstreffen_2024/
END:VEVENT
BEGIN:VEVENT
DTSTART;TZID=Europe/Berlin:20240117T200000
DTEND;TZID=Europe/Berlin:20240117T200000
DTSTAMP:20260422T153118
CREATED:20240105T121848Z
LAST-MODIFIED:20240105T121946Z
UID:1201-1705521600-1705521600@gasl.org
SUMMARY:DAS BUCH JEDERMANN – Rauschenbach und Reemtsma lesen Arno Schmidt
DESCRIPTION:Seit vielen Jahren begeistert Bernd Rauschenbach mit seinen Rezitationen das Celler Publikum. Dabei erweist sich der Arno-Schmidt-Kenner immer wieder als lesender Entdecker\, der vergessene Dichterinnen und Dichter zurück auf die Bühne bringt. Hörkultur vom Feinsten. \n\n\n\n17.01. Arno Schmidt – „Das Buch Jedermann” \n\n\n\nWeitere Informationen: Schlosstheater Celle
URL:https://gasl.org/event/das-buch-jedermann-rauschenbach-und-reemtsma-lesen-arno-schmidt/
END:VEVENT
BEGIN:VEVENT
DTSTART;TZID=Europe/Berlin:20231006T000000
DTEND;TZID=Europe/Berlin:20231008T235959
DTSTAMP:20260422T153118
CREATED:20230611T094943Z
LAST-MODIFIED:20240826T190148Z
UID:350-1696550400-1696809599@gasl.org
SUMMARY:36. Jahrestagung der Gesellschaft der Arno-Schmidt-Leser
DESCRIPTION:Die Jahrestagung 2023 fand vom 6. bis 8. Oktober in Quedlinburg statt.Tagungsort war die „Bühne 7“ in der Marktstraße 7. \n\n\n\n\n\n\nTagungsprogramm \n\n\n\nFreitag6. Oktober 202317.00 UhrMitgliederversammlung der GASL18.00 UhrGemeinsames Abendessen im Restaurant “Zur Goldenen Sonne”Samstag7. Oktober 202309.00 UhrUlrike Preußer„the rest is a nightmare“ – Arno Schmidt als literarische Figur in der Kinder- und Jugendliteratur!? Überlegungen zu einem sonderbaren Verhältnis(Vortrag ist leider ausgefallen)10.00 UhrSimon Gottwald„Ach\, alles\, was keinen Namen hat\, ist glücklich“. Tina oder über die Unsterblichkeit als Signifikantenproblem.11.00 UhrMichaela Nowotnick\, Alina BernholtDer Briefwechsel von Arno Schmidt und Max Bense. Einblicke in die Entstehung einer Edition.12.00 UhrMartin LindemannArchitekturen des Glücks? Gedanken zu Arno Schmidts Gelehrtenrepublik13.00 UhrMittagspause14.50 UhrStadtführung und Besuch des Klopstockmuseums18.00 UhrGemeinsames Abendessen im Restaurant “Artemis”Sonntag8. Oktober 202309.00 UhrUlrich KlappsteinArno Schmidt und die Deutsche Revolution von 184810.30 UhrWinand HerzogDer »wahre Klopstock« oder Wie selbst Arno Schmidt Klopstock verkannte
URL:https://gasl.org/event/jahrestagung/
LOCATION:Quedlinburg\, Marktstraße 7\, Bühne 7
END:VEVENT
BEGIN:VEVENT
DTSTART;TZID=Europe/Berlin:20230619T200000
DTEND;TZID=Europe/Berlin:20230619T200000
DTSTAMP:20260422T153118
CREATED:20230611T100137Z
LAST-MODIFIED:20230723T111403Z
UID:355-1687204800-1687204800@gasl.org
SUMMARY:Buchvorstellung mit Bernd Rauschenbach und Jan Philipp Reemtsma
DESCRIPTION:Es gibt keine Seligkeit ohne Bücher!«Buchvorstellung mit Bernd Rauschenbach und Jan Philipp Reemtsma.Ein Leben ohne Bücher? Für Arno Schmidt unvorstellbar! Der von Bernd Rauschenbach herausgegebene Band versammelt erstmals in Buchform seine Aufsätze und Essays zum Thema »der Schriftsteller und das Buch«.19.6.\, 20 Uhr
URL:https://gasl.org/event/buchvorstellung/
LOCATION:Schlosstheater Celle\, Schlossplatz 1\, Celle
END:VEVENT
END:VCALENDAR